BEGIN:VCALENDAR
VERSION:2.0
PRODID:-//Wild Rockies Field Institute - ECPv6.15.14//NONSGML v1.0//EN
CALSCALE:GREGORIAN
METHOD:PUBLISH
X-WR-CALNAME:Wild Rockies Field Institute
X-ORIGINAL-URL:https://www.wrfi.net
X-WR-CALDESC:Events for Wild Rockies Field Institute
REFRESH-INTERVAL;VALUE=DURATION:PT1H
X-Robots-Tag:noindex
X-PUBLISHED-TTL:PT1H
BEGIN:VTIMEZONE
TZID:America/Los_Angeles
BEGIN:DAYLIGHT
TZOFFSETFROM:-0800
TZOFFSETTO:-0700
TZNAME:PDT
DTSTART:20240310T100000
END:DAYLIGHT
BEGIN:STANDARD
TZOFFSETFROM:-0700
TZOFFSETTO:-0800
TZNAME:PST
DTSTART:20241103T090000
END:STANDARD
BEGIN:DAYLIGHT
TZOFFSETFROM:-0800
TZOFFSETTO:-0700
TZNAME:PDT
DTSTART:20250309T100000
END:DAYLIGHT
BEGIN:STANDARD
TZOFFSETFROM:-0700
TZOFFSETTO:-0800
TZNAME:PST
DTSTART:20251102T090000
END:STANDARD
BEGIN:DAYLIGHT
TZOFFSETFROM:-0800
TZOFFSETTO:-0700
TZNAME:PDT
DTSTART:20260308T100000
END:DAYLIGHT
BEGIN:STANDARD
TZOFFSETFROM:-0700
TZOFFSETTO:-0800
TZNAME:PST
DTSTART:20261101T090000
END:STANDARD
END:VTIMEZONE
BEGIN:VTIMEZONE
TZID:America/Denver
BEGIN:DAYLIGHT
TZOFFSETFROM:-0700
TZOFFSETTO:-0600
TZNAME:MDT
DTSTART:20240310T090000
END:DAYLIGHT
BEGIN:STANDARD
TZOFFSETFROM:-0600
TZOFFSETTO:-0700
TZNAME:MST
DTSTART:20241103T080000
END:STANDARD
BEGIN:DAYLIGHT
TZOFFSETFROM:-0700
TZOFFSETTO:-0600
TZNAME:MDT
DTSTART:20250309T090000
END:DAYLIGHT
BEGIN:STANDARD
TZOFFSETFROM:-0600
TZOFFSETTO:-0700
TZNAME:MST
DTSTART:20251102T080000
END:STANDARD
BEGIN:DAYLIGHT
TZOFFSETFROM:-0700
TZOFFSETTO:-0600
TZNAME:MDT
DTSTART:20260308T090000
END:DAYLIGHT
BEGIN:STANDARD
TZOFFSETFROM:-0600
TZOFFSETTO:-0700
TZNAME:MST
DTSTART:20261101T080000
END:STANDARD
END:VTIMEZONE
BEGIN:VEVENT
DTSTART;TZID=America/Los_Angeles:20250303T153000
DTEND;TZID=America/Los_Angeles:20250303T163000
DTSTAMP:20260419T194606
CREATED:20250218T212836Z
LAST-MODIFIED:20250218T212836Z
UID:7240-1741015800-1741019400@www.wrfi.net
SUMMARY:Evergreen State College Info Session
DESCRIPTION:Join us for an engaging information session hosted by the Wild Rockies Field Institute (WRFI)! Learn how you can embark on unforgettable educational adventures in some of the most stunning wilderness areas of the Rocky Mountains and beyond. \nThis hour-long session will cover: \n\nWRFI’s unique field-based courses that combine academics\, outdoor exploration\, and hands-on learning.\nHow our programs can help you earn college credit while experiencing the natural world.\nInsights from WRFI staff about what makes these experiences life-changing!\nA Q&A session.\n\nWhen: Monday\, March 3rd from 3:30-4:30pm PST\nWhere: Purce Hall\, room 5 \n✨ Special Bonus: We’ll be providing free pizza! Plus\, all attendees who provide their contact information will be entered into a raffle to win a full camping setup – tent + sleeping bag & pad! – from Kelty! \nWe can’t wait to meet you and help you plan your next step toward academic and personal growth in the great outdoors!
URL:https://www.wrfi.net/event/evergreen-state-college-info-session/
CATEGORIES:Information Session
END:VEVENT
BEGIN:VEVENT
DTSTART;TZID=America/Denver:20250306T120000
DTEND;TZID=America/Denver:20250306T130000
DTSTAMP:20260419T194606
CREATED:20250227T171517Z
LAST-MODIFIED:20250227T234038Z
UID:7247-1741262400-1741266000@www.wrfi.net
SUMMARY:Montana State University Info Session 1
DESCRIPTION:Join us for an engaging information session hosted by the Wild Rockies Field Institute (WRFI)! Learn how you can embark on unforgettable educational adventures in some of the most stunning wilderness areas of the Rocky Mountains and beyond. \nThis hour-long session will cover: \n\nWRFI’s unique field-based courses that combine academics\, outdoor exploration\, and hands-on learning.\nHow our programs can help you earn college credit while experiencing the natural world.\nInsights from WRFI staff about what makes these experiences life-changing\, as well as first-hand experiences from WRFI alumni who attend MSU!\nA Q&A session.\n\nWhen: Thursday\, March 6th from 12-1pm MST\nWhere: Student Union Building\, room 232 \n✨ Special Bonus: All attendees who provide their contact information will be entered into a raffle to win a full camping setup – tent + sleeping bag & pad! – from Kelty! \nWe can’t wait to meet you and help you plan your next step toward academic and personal growth in the great outdoors!
URL:https://www.wrfi.net/event/montana-state-university-info-session-1/
LOCATION:Montana State University\, Bozeman\, MT\, United States
CATEGORIES:Information Session
END:VEVENT
BEGIN:VEVENT
DTSTART;TZID=America/Denver:20250306T160000
DTEND;TZID=America/Denver:20250306T170000
DTSTAMP:20260419T194606
CREATED:20250227T234127Z
LAST-MODIFIED:20250227T234329Z
UID:7250-1741276800-1741280400@www.wrfi.net
SUMMARY:Montana State University Info Session 2
DESCRIPTION:Join us for an engaging information session hosted by the Wild Rockies Field Institute (WRFI)! Learn how you can embark on unforgettable educational adventures in some of the most stunning wilderness areas of the Rocky Mountains and beyond. \nThis hour-long session will cover: \n\nWRFI’s unique field-based courses that combine academics\, outdoor exploration\, and hands-on learning.\nHow our programs can help you earn college credit while experiencing the natural world.\nInsights from WRFI staff about what makes these experiences life-changing\, as well as first-hand experiences from WRFI alumni who attend MSU!\nA Q&A session.\n\nWhen: Thursday\, March 6th from 4-5pm MST\nWhere: Student Union Building\, room 232 \n✨ Special Bonus: All attendees who provide their contact information will be entered into a raffle to win a full camping setup – tent + sleeping bag & pad! – from Kelty! \nWe can’t wait to meet you and help you plan your next step toward academic and personal growth in the great outdoors!
URL:https://www.wrfi.net/event/montana-state-university-information-session-2-2/
LOCATION:Montana State University\, Bozeman\, MT\, United States
CATEGORIES:Information Session
END:VEVENT
BEGIN:VEVENT
DTSTART;TZID=America/Denver:20250312T160000
DTEND;TZID=America/Denver:20250312T170000
DTSTAMP:20260419T194606
CREATED:20250225T220603Z
LAST-MODIFIED:20250225T220603Z
UID:7246-1741795200-1741798800@www.wrfi.net
SUMMARY:University of Montana Info Session
DESCRIPTION:Join us for an engaging information session hosted by the Wild Rockies Field Institute (WRFI)! Learn how you can embark on unforgettable educational adventures in some of the most stunning wilderness areas of the Rocky Mountains and beyond. \nThis hour-long session will cover: \n\nWRFI’s unique field-based courses that combine academics\, outdoor exploration\, and hands-on learning.\nHow our programs can help you earn college credit while experiencing the natural world.\nInsights from WRFI staff about what makes these experiences life-changing\, as well as first-hand experiences from WRFI alumni who attend UM!\nA Q&A session.\n\nWhen: Thursday\, March 12th from 4-5pm MST\nWhere: Davidson Honors College\, room 117 \n✨ Special Bonus: All attendees who provide their contact information will be entered into a raffle to win a full camping setup – tent + sleeping bag & pad! – from Kelty! \nWe can’t wait to meet you and help you plan your next step toward academic and personal growth in the great outdoors!
URL:https://www.wrfi.net/event/university-of-montana-info-session/
LOCATION:Davidson Honors College Room 117\, University of Montana
CATEGORIES:Information Session
END:VEVENT
END:VCALENDAR