BEGIN:VCALENDAR
VERSION:2.0
PRODID:-//Wild Rockies Field Institute - ECPv6.15.20//NONSGML v1.0//EN
CALSCALE:GREGORIAN
METHOD:PUBLISH
X-WR-CALNAME:Wild Rockies Field Institute
X-ORIGINAL-URL:https://www.wrfi.net
X-WR-CALDESC:Events for Wild Rockies Field Institute
REFRESH-INTERVAL;VALUE=DURATION:PT1H
X-Robots-Tag:noindex
X-PUBLISHED-TTL:PT1H
BEGIN:VTIMEZONE
TZID:America/Denver
BEGIN:DAYLIGHT
TZOFFSETFROM:-0700
TZOFFSETTO:-0600
TZNAME:MDT
DTSTART:20180311T090000
END:DAYLIGHT
BEGIN:STANDARD
TZOFFSETFROM:-0600
TZOFFSETTO:-0700
TZNAME:MST
DTSTART:20181104T080000
END:STANDARD
BEGIN:DAYLIGHT
TZOFFSETFROM:-0700
TZOFFSETTO:-0600
TZNAME:MDT
DTSTART:20190310T090000
END:DAYLIGHT
BEGIN:STANDARD
TZOFFSETFROM:-0600
TZOFFSETTO:-0700
TZNAME:MST
DTSTART:20191103T080000
END:STANDARD
BEGIN:DAYLIGHT
TZOFFSETFROM:-0700
TZOFFSETTO:-0600
TZNAME:MDT
DTSTART:20200308T090000
END:DAYLIGHT
BEGIN:STANDARD
TZOFFSETFROM:-0600
TZOFFSETTO:-0700
TZNAME:MST
DTSTART:20201101T080000
END:STANDARD
BEGIN:DAYLIGHT
TZOFFSETFROM:-0700
TZOFFSETTO:-0600
TZNAME:MDT
DTSTART:20210314T090000
END:DAYLIGHT
BEGIN:STANDARD
TZOFFSETFROM:-0600
TZOFFSETTO:-0700
TZNAME:MST
DTSTART:20211107T080000
END:STANDARD
BEGIN:DAYLIGHT
TZOFFSETFROM:-0700
TZOFFSETTO:-0600
TZNAME:MDT
DTSTART:20220313T090000
END:DAYLIGHT
BEGIN:STANDARD
TZOFFSETFROM:-0600
TZOFFSETTO:-0700
TZNAME:MST
DTSTART:20221106T080000
END:STANDARD
BEGIN:DAYLIGHT
TZOFFSETFROM:-0700
TZOFFSETTO:-0600
TZNAME:MDT
DTSTART:20230312T090000
END:DAYLIGHT
BEGIN:STANDARD
TZOFFSETFROM:-0600
TZOFFSETTO:-0700
TZNAME:MST
DTSTART:20231105T080000
END:STANDARD
BEGIN:DAYLIGHT
TZOFFSETFROM:-0700
TZOFFSETTO:-0600
TZNAME:MDT
DTSTART:20240310T090000
END:DAYLIGHT
BEGIN:STANDARD
TZOFFSETFROM:-0600
TZOFFSETTO:-0700
TZNAME:MST
DTSTART:20241103T080000
END:STANDARD
END:VTIMEZONE
BEGIN:VTIMEZONE
TZID:America/Los_Angeles
BEGIN:DAYLIGHT
TZOFFSETFROM:-0800
TZOFFSETTO:-0700
TZNAME:PDT
DTSTART:20220313T100000
END:DAYLIGHT
BEGIN:STANDARD
TZOFFSETFROM:-0700
TZOFFSETTO:-0800
TZNAME:PST
DTSTART:20221106T090000
END:STANDARD
BEGIN:DAYLIGHT
TZOFFSETFROM:-0800
TZOFFSETTO:-0700
TZNAME:PDT
DTSTART:20230312T100000
END:DAYLIGHT
BEGIN:STANDARD
TZOFFSETFROM:-0700
TZOFFSETTO:-0800
TZNAME:PST
DTSTART:20231105T090000
END:STANDARD
BEGIN:DAYLIGHT
TZOFFSETFROM:-0800
TZOFFSETTO:-0700
TZNAME:PDT
DTSTART:20240310T100000
END:DAYLIGHT
BEGIN:STANDARD
TZOFFSETFROM:-0700
TZOFFSETTO:-0800
TZNAME:PST
DTSTART:20241103T090000
END:STANDARD
END:VTIMEZONE
BEGIN:VEVENT
DTSTART;TZID=America/Denver:20230914T110000
DTEND;TZID=America/Denver:20230914T123000
DTSTAMP:20260421T132605
CREATED:20230829T161727Z
LAST-MODIFIED:20230829T165141Z
UID:6659-1694689200-1694694600@www.wrfi.net
SUMMARY:Campus Visit | University of Montana
DESCRIPTION:WRFI will be on campus recruiting students\, hanging flyers\, presenting in classes\, and speaking with advisors – all to give UM students the opportunity to learn in the field with us in 2024! \nInformation Session:\nJoin us for free pizza at lunch on Thursday\, September 14 in Davidson Honors College 117 at 11:00-12:15 to learn more about WRFI programs and get your questions answered.
URL:https://www.wrfi.net/event/campus-visit-um/
LOCATION:Davidson Honors College Room 117\, University of Montana
CATEGORIES:Outreach Event
ATTACH;FMTTYPE=image/png:https://www.wrfi.net/wp-content/uploads/2023/08/UM-Info-Session-1.png
END:VEVENT
BEGIN:VEVENT
DTSTART;TZID=America/Denver:20230306T080000
DTEND;TZID=America/Denver:20230307T170000
DTSTAMP:20260421T132605
CREATED:20230112T211655Z
LAST-MODIFIED:20230112T211655Z
UID:6374-1678089600-1678208400@www.wrfi.net
SUMMARY:Campus Visit | Evergreen State College
DESCRIPTION:WRFI will be on campus recruiting students\, hanging flyers\, presenting in classes\, and speaking with advisors – all to give Evergreen students the opportunity to learn in the field with us in 2023!
URL:https://www.wrfi.net/event/campus-visit-evergreen-state-college/
LOCATION:Evergreen State College\, 2700 Evergreen Parkway NW\, Olympia\, WA\, 98505\, United States
CATEGORIES:Outreach Event
ATTACH;FMTTYPE=image/jpeg:https://www.wrfi.net/wp-content/uploads/2021/06/Emet-Blog-Photo-One-scaled.jpeg
END:VEVENT
BEGIN:VEVENT
DTSTART;TZID=America/Denver:20230302T080000
DTEND;TZID=America/Denver:20230303T170000
DTSTAMP:20260421T132605
CREATED:20230112T211236Z
LAST-MODIFIED:20230112T211236Z
UID:6368-1677744000-1677862800@www.wrfi.net
SUMMARY:Campus Visit | Portland State University
DESCRIPTION:WRFI will be on campus recruiting students\, hanging flyers\, presenting in classes\, and speaking with advisors – all to give PSU students the opportunity to learn in the field with us in 2023!
URL:https://www.wrfi.net/event/campus-visit-portland-state-university/
LOCATION:Portland State University\, 1825 SW Broadway\, Portland\, OR\, 97201\, United States
CATEGORIES:Outreach Event
ATTACH;FMTTYPE=image/jpeg:https://www.wrfi.net/wp-content/uploads/2022/11/IMG_5535-L.jpg
END:VEVENT
BEGIN:VEVENT
DTSTART;TZID=America/Denver:20230301T080000
DTEND;TZID=America/Denver:20230301T170000
DTSTAMP:20260421T132605
CREATED:20230112T210948Z
LAST-MODIFIED:20230112T210948Z
UID:6367-1677657600-1677690000@www.wrfi.net
SUMMARY:Campus Visit | Pacific Northwest College of Art
DESCRIPTION:WRFI will be on campus recruiting students\, hanging flyers\, presenting in classes\, and speaking with advisors – all to give PNCA students the opportunity to learn in the field with us in 2023!
URL:https://www.wrfi.net/event/campus-visit-pacific-northwest-college-of-art/
LOCATION:Pacific Northwest College of Art\, 511 NW Broadway\, Portland\, OR\, 97209\, United States
CATEGORIES:Outreach Event
ATTACH;FMTTYPE=image/jpeg:https://www.wrfi.net/wp-content/uploads/2022/09/Colorado-Plateau_Plant-Study-2_2019-e1673557756875.jpg
END:VEVENT
BEGIN:VEVENT
DTSTART;TZID=America/Denver:20230227T080000
DTEND;TZID=America/Denver:20230228T130000
DTSTAMP:20260421T132605
CREATED:20230112T210502Z
LAST-MODIFIED:20230112T210502Z
UID:6366-1677484800-1677589200@www.wrfi.net
SUMMARY:Campus Visit | Oregon State University
DESCRIPTION:WRFI will be on campus recruiting students\, hanging flyers\, presenting in classes\, and speaking with advisors – all to give OSU students the opportunity to learn in the field with us in 2023!
URL:https://www.wrfi.net/event/campus-visit-oregon-state-university/
LOCATION:Oregon State University\, 1500 SW Jefferson Way\, Corvallis\, OR\, 97331\, United States
CATEGORIES:Outreach Event
ATTACH;FMTTYPE=image/jpeg:https://www.wrfi.net/wp-content/uploads/2021/11/Eva-Christ_Views-CP21.jpg
END:VEVENT
BEGIN:VEVENT
DTSTART;TZID=America/Denver:20230222T080000
DTEND;TZID=America/Denver:20230224T170000
DTSTAMP:20260421T132605
CREATED:20230112T210211Z
LAST-MODIFIED:20230112T210211Z
UID:6365-1677052800-1677258000@www.wrfi.net
SUMMARY:Campus Visit | University of Oregon
DESCRIPTION:WRFI will be on campus recruiting students\, hanging flyers\, presenting in classes\, and speaking with advisors – all to give University of Oregon students the opportunity to learn in the field with us in 2023!
URL:https://www.wrfi.net/event/campus-visit-university-of-oregon/
LOCATION:University of Oregon\, 1585 E 13th Ave.\, Eugene\, OR\, 97403\, United States
CATEGORIES:Outreach Event
ATTACH;FMTTYPE=image/jpeg:https://www.wrfi.net/wp-content/uploads/2022/09/gallery-6.jpg
END:VEVENT
BEGIN:VEVENT
DTSTART;TZID=America/Denver:20230220T080000
DTEND;TZID=America/Denver:20230221T120000
DTSTAMP:20260421T132605
CREATED:20230112T205724Z
LAST-MODIFIED:20230112T205926Z
UID:6364-1676880000-1676980800@www.wrfi.net
SUMMARY:Campus Visit | Southern Oregon University
DESCRIPTION:WRFI will be on campus recruiting students\, hanging flyers\, presenting in classes\, and speaking with advisors – all to give SOU students the opportunity to learn in the field with us in 2023!
URL:https://www.wrfi.net/event/campus-visit-southern-oregon-university/
LOCATION:Southern Oregon University\, 1250 Siskiyou Boulevard\, Ashland\, OR\, 97520\, United States
CATEGORIES:Outreach Event
ATTACH;FMTTYPE=image/jpeg:https://www.wrfi.net/wp-content/uploads/2021/10/Eva-Happy-Blog-Photo-1.jpg
END:VEVENT
BEGIN:VEVENT
DTSTART;TZID=America/Denver:20230215T080000
DTEND;TZID=America/Denver:20230217T170000
DTSTAMP:20260421T132605
CREATED:20230112T205034Z
LAST-MODIFIED:20230112T205034Z
UID:6361-1676448000-1676653200@www.wrfi.net
SUMMARY:Campus Visit | Cal Poly Humboldt
DESCRIPTION:WRFI will be on campus recruiting students\, hanging flyers\, presenting in classes\, and speaking with advisors – all to give Cal Poly Humboldt students the opportunity to learn in the field with us in 2023!
URL:https://www.wrfi.net/event/campus-visit-cal-poly-humboldt/
LOCATION:Cal Poly Humboldt\, 1 Harpst Street\, Arcata\, CA\, 95521\, United States
CATEGORIES:Outreach Event
ATTACH;FMTTYPE=image/jpeg:https://www.wrfi.net/wp-content/uploads/2022/11/IMG_0996.jpg
END:VEVENT
BEGIN:VEVENT
DTSTART;TZID=America/Denver:20230213T080000
DTEND;TZID=America/Denver:20230214T120000
DTSTAMP:20260421T132605
CREATED:20230112T204524Z
LAST-MODIFIED:20230112T204524Z
UID:6359-1676275200-1676376000@www.wrfi.net
SUMMARY:Campus Visit | UC Davis
DESCRIPTION:WRFI will be on campus recruiting students\, hanging flyers\, presenting in classes\, and speaking with advisors – all to give UC Davis students the opportunity to learn in the field with us in 2023!
URL:https://www.wrfi.net/event/campus-visit-uc-davis/
LOCATION:UC Davis\, One Shields Avenue\, Davis\, CA\, 95616\, United States
CATEGORIES:Outreach Event
ATTACH;FMTTYPE=image/jpeg:https://www.wrfi.net/wp-content/uploads/2021/05/Joel-DiBiase.jpg
END:VEVENT
BEGIN:VEVENT
DTSTART;TZID=America/Denver:20230209T080000
DTEND;TZID=America/Denver:20230210T170000
DTSTAMP:20260421T132605
CREATED:20230112T202001Z
LAST-MODIFIED:20230203T221431Z
UID:6357-1675929600-1676048400@www.wrfi.net
SUMMARY:Campus Visit | UC Berkeley
DESCRIPTION:WRFI will be on campus recruiting students\, hanging flyers\, presenting in classes\, and speaking with advisors – all to give UC Berkeley students the opportunity to learn in the field with us in 2023!
URL:https://www.wrfi.net/event/campus-visit-uc-berkeley/
LOCATION:UC Berkeley\, 101 Durant Hall\, Berkeley\, CA\, 94720\, United States
CATEGORIES:Outreach Event
ATTACH;FMTTYPE=image/jpeg:https://www.wrfi.net/wp-content/uploads/2021/03/Shannon-Lynch_Forever-Jumbo-Wild-CXB18-scaled-e1673554954732.jpeg
END:VEVENT
BEGIN:VEVENT
DTSTART;TZID=America/Denver:20230206T080000
DTEND;TZID=America/Denver:20230208T120000
DTSTAMP:20260421T132605
CREATED:20230112T201417Z
LAST-MODIFIED:20230112T201417Z
UID:6354-1675670400-1675857600@www.wrfi.net
SUMMARY:Campus Visit | UC Santa Cruz
DESCRIPTION:WRFI will be on campus recruiting students\, hanging flyers\, presenting in classes\, and speaking with advisors – all to give UC Santa Cruz students the opportunity to learn in the field with us in 2023!
URL:https://www.wrfi.net/event/campus-visit-uc-santa-cruz/
LOCATION:UC Santa Cruz\, 1156 High Street\, Santa Cruz\, CA\, 95064\, United States
CATEGORIES:Outreach Event
ATTACH;FMTTYPE=image/jpeg:https://www.wrfi.net/wp-content/uploads/2022/09/127686A2-D07F-4CF7-AD30-D993A693A85A-1.jpg
END:VEVENT
BEGIN:VEVENT
DTSTART;TZID=America/Denver:20230202T080000
DTEND;TZID=America/Denver:20230203T170000
DTSTAMP:20260421T132605
CREATED:20230112T200845Z
LAST-MODIFIED:20230112T205150Z
UID:6353-1675324800-1675443600@www.wrfi.net
SUMMARY:Campus Visit | Cal Poly San Luis Obispo
DESCRIPTION:WRFI will be on campus recruiting students\, hanging flyers\, presenting in classes\, and speaking with advisors – all to give Cal Poly SLO students the opportunity to learn in the field with us in 2023!
URL:https://www.wrfi.net/event/campus-visit-calpoly-san-luis-obispo/
LOCATION:Cal Poly San Luis Obispo\, 1 Grand Avenue\, San Luis Obispo\, CA\, 93407\, United States
CATEGORIES:Outreach Event
ATTACH;FMTTYPE=image/jpeg:https://www.wrfi.net/wp-content/uploads/2021/11/Caden-Gallagher_Morning-March-to-Dawson-Pass-Glacier-National-Park-CXB21.jpg
END:VEVENT
BEGIN:VEVENT
DTSTART;TZID=America/Los_Angeles:20230201T120000
DTEND;TZID=America/Los_Angeles:20230201T130000
DTSTAMP:20260421T132605
CREATED:20230112T195158Z
LAST-MODIFIED:20230123T044217Z
UID:6350-1675252800-1675256400@www.wrfi.net
SUMMARY:Campus Visit | UC Santa Barbara
DESCRIPTION:WRFI will be on campus recruiting students\, hanging flyers\, presenting in classes\, and speaking with advisors – all to give UC Santa Barbara students the opportunity to learn in the field with us in 2023!
URL:https://www.wrfi.net/event/campus-visit-uc-santa-barbara/
LOCATION:UC Santa Barbara\, 4313 Bren Hall\, UC Santa Barbara\, Santa Barbara\, 93106
CATEGORIES:Outreach Event
ATTACH;FMTTYPE=image/jpeg:https://www.wrfi.net/wp-content/uploads/2023/01/IMG_0560_HEIC-1-1-scaled.jpg
END:VEVENT
BEGIN:VEVENT
DTSTART;TZID=America/Los_Angeles:20230126T120000
DTEND;TZID=America/Los_Angeles:20230126T130000
DTSTAMP:20260421T132605
CREATED:20230112T192110Z
LAST-MODIFIED:20230123T044735Z
UID:6345-1674734400-1674738000@www.wrfi.net
SUMMARY:Campus Visit | California State University San Bernardino
DESCRIPTION:WRFI will be on campus recruiting students\, hanging flyers\, presenting in classes\, and speaking with advisors – all to give CSU San Bernardino students the opportunity to get out in the field with us in 2023! \nSpecial thanks to Mark Oswood and the LCC Staff at the CSUSB Recreation & Wellness Center\, for helping us coordinate! Their Adventure Leadership Program is a great place for WRFI alumni to take their outdoor leadership skills to the next level. \nInfo Session at 12:00-1:00PM in SMSU South Room 210. Free snacks!
URL:https://www.wrfi.net/event/wrfi-on-campus-at-california-state-university-san-bernardino/
LOCATION:California State University San Bernardino\, SMSU South Room 210\, San Bernardino\, CA\, 92407\, United States
CATEGORIES:Outreach Event
ATTACH;FMTTYPE=image/png:https://www.wrfi.net/wp-content/uploads/2022/01/Sofia-Fea-Ruiz.png
END:VEVENT
BEGIN:VEVENT
DTSTART;TZID=America/Denver:20221027T140000
DTEND;TZID=America/Denver:20221027T160000
DTSTAMP:20260421T132605
CREATED:20221024T212938Z
LAST-MODIFIED:20221024T214810Z
UID:6297-1666879200-1666886400@www.wrfi.net
SUMMARY:Campus Visit: St. Lawrence University
DESCRIPTION:Interested in learning more about WRFI\, the courses we offer\, and the experience students gain during their time with us? Meet us in person at the St. Lawrence University\, in the Sullivan Student Center Sullivan Student Center\, Crandell Room 232 on Thursday\, October 27th from 2:00pm – 4:00pm EST. We’ll help you decide on the right WRFI course\, chat about credits\, and help you navigate registration. Come join us!
URL:https://www.wrfi.net/event/campus-visit-st-lawrence-university/
LOCATION:Sullivan Student Center Sullivan Student Center\, Crandell Room 232\, St Lawrence University
CATEGORIES:Outreach Event
END:VEVENT
BEGIN:VEVENT
DTSTART;TZID=America/Denver:20221025T160000
DTEND;TZID=America/Denver:20221025T173000
DTSTAMP:20260421T132605
CREATED:20221024T212359Z
LAST-MODIFIED:20221024T212558Z
UID:6295-1666713600-1666719000@www.wrfi.net
SUMMARY:Campus Visit: University of Vermont
DESCRIPTION:Interested in learning more about WRFI\, the courses we offer\, and the experience students gain during their time with us? Meet us in person at the University of Vermont\, in the Aiken Center room 220\, on Tuesday\, October 25th from 4:00pm – 5:30pm EST. We’ll help you decide on the right WRFI course\, chat about credits\, and help you navigate registration. Come join us!
URL:https://www.wrfi.net/event/campus-visit-university-of-vermont/
LOCATION:University of Vermont Aiken Center Room 220
CATEGORIES:Outreach Event
END:VEVENT
BEGIN:VEVENT
DTSTART;TZID=America/Denver:20220923T160000
DTEND;TZID=America/Denver:20220923T170000
DTSTAMP:20260421T132605
CREATED:20220911T172513Z
LAST-MODIFIED:20220911T172513Z
UID:6215-1663948800-1663952400@www.wrfi.net
SUMMARY:Campus Visit: University of Montana
DESCRIPTION:Interested in learning more about WRFI\, the courses we offer\, and the experience students gain during their time with us? Meet us in person at the University of Montana\, in the Davidson Honors College room 120\, on Friday\, September 23rd from 4:00pm – 5:00pm. We’ll help you decide on the right WRFI course\, chat about credits\, and help you navigate registration. Come join us!
URL:https://www.wrfi.net/event/campus-visit-university-of-montana-4/
LOCATION:University of Montana\, Davidson Honors College room 117
CATEGORIES:Outreach Event
ATTACH;FMTTYPE=image/jpeg:https://www.wrfi.net/wp-content/uploads/2022/09/524AD50D-D7A9-4CE5-B95F-1B11CDD901FD.jpg
END:VEVENT
BEGIN:VEVENT
DTSTART;TZID=America/Denver:20220923T120000
DTEND;TZID=America/Denver:20220923T130000
DTSTAMP:20260421T132605
CREATED:20220911T172321Z
LAST-MODIFIED:20220911T172321Z
UID:6213-1663934400-1663938000@www.wrfi.net
SUMMARY:Campus Visit: University of Montana
DESCRIPTION:Interested in learning more about WRFI\, the courses we offer\, and the experience students gain during their time with us? Meet us in person at the University of Montana\, in the Davidson Honors College room 120\, on Friday\, September 23rd\nfrom 12:00pm – 1:00pm. We’ll help you decide on the right WRFI course\, chat about credits\, and help you navigate registration. Come join us!
URL:https://www.wrfi.net/event/campus-visit-university-of-montana-3/
LOCATION:University of Montana\, Davidson Honors College\, room 120
CATEGORIES:Outreach Event
ATTACH;FMTTYPE=image/jpeg:https://www.wrfi.net/wp-content/uploads/2022/09/524AD50D-D7A9-4CE5-B95F-1B11CDD901FD.jpg
END:VEVENT
BEGIN:VEVENT
DTSTART;TZID=America/Denver:20220920T160000
DTEND;TZID=America/Denver:20220920T170000
DTSTAMP:20260421T132605
CREATED:20220909T210414Z
LAST-MODIFIED:20220909T210414Z
UID:6207-1663689600-1663693200@www.wrfi.net
SUMMARY:Campus Visit: Montana Tech
DESCRIPTION:Interested in learning more about WRFI\, the courses we offer\, and the experience students gain during their time with us? Meet us in person at Montana Tech in the Student Union Building 113AB Tuesday\, September 20th from 4:00pm-5:00pm. We’ll help you decide on the right WRFI course\, chat about credits\, and help you navigate registration. Come join us!
URL:https://www.wrfi.net/event/campus-visit-montana-tech/
LOCATION:Montana Tech\, Student Union Building 113AB
CATEGORIES:Outreach Event
ATTACH;FMTTYPE=image/jpeg:https://www.wrfi.net/wp-content/uploads/2022/09/127686A2-D07F-4CF7-AD30-D993A693A85A-1.jpg
END:VEVENT
BEGIN:VEVENT
DTSTART;TZID=America/Denver:20220913T150000
DTEND;TZID=America/Denver:20220913T160000
DTSTAMP:20260421T132605
CREATED:20220909T210859Z
LAST-MODIFIED:20220909T210859Z
UID:6210-1663081200-1663084800@www.wrfi.net
SUMMARY:Campus Visit: University of Montana
DESCRIPTION:Interested in learning more about WRFI\, the courses we offer\, and the experience students gain during their time with us? Meet us in person at the University of Montana\, in the Davidson Honors College room 117\, on Tuesday\, September 13th\nfrom 3:00pm-4:00pm. We’ll help you decide on the right WRFI course\, chat about credits\, and help you navigate registration. Come join us!
URL:https://www.wrfi.net/event/campus-visit-university-of-montana-2/
LOCATION:University of Montana\, Davidson Honors College room 117
CATEGORIES:Outreach Event
ATTACH;FMTTYPE=image/jpeg:https://www.wrfi.net/wp-content/uploads/2022/09/524AD50D-D7A9-4CE5-B95F-1B11CDD901FD.jpg
END:VEVENT
BEGIN:VEVENT
DTSTART;TZID=America/Denver:20190206T100000
DTEND;TZID=America/Denver:20190206T140000
DTSTAMP:20260421T132605
CREATED:20190112T154904Z
LAST-MODIFIED:20190112T155023Z
UID:4117-1549447200-1549461600@www.wrfi.net
SUMMARY:University of Montana Involvement Fair
DESCRIPTION:WRFI will be participating in the University of Montana’s Involvement Fair. Students are invited to connect to a variety of experiential learning opportunities\, including field based programs like WRFI\, internships\, volunteer experiences\, research\, study abroad and National Student Exchange. Swing by and learn more about WRFI’s course options\, application process\, scholarships and more!
URL:https://www.wrfi.net/event/university-of-montana-involvement-fair/
LOCATION:University of Montana\, UC Ballroom\, Missoula
CATEGORIES:Outreach Event
ATTACH;FMTTYPE=image/jpeg:https://www.wrfi.net/wp-content/uploads/2018/09/WRFI-tabling-photo.jpg
END:VEVENT
END:VCALENDAR