BEGIN:VCALENDAR
VERSION:2.0
PRODID:-//Wild Rockies Field Institute - ECPv6.15.20//NONSGML v1.0//EN
CALSCALE:GREGORIAN
METHOD:PUBLISH
X-ORIGINAL-URL:https://www.wrfi.net
X-WR-CALDESC:Events for Wild Rockies Field Institute
REFRESH-INTERVAL;VALUE=DURATION:PT1H
X-Robots-Tag:noindex
X-PUBLISHED-TTL:PT1H
BEGIN:VTIMEZONE
TZID:America/Denver
BEGIN:DAYLIGHT
TZOFFSETFROM:-0700
TZOFFSETTO:-0600
TZNAME:MDT
DTSTART:20180311T090000
END:DAYLIGHT
BEGIN:STANDARD
TZOFFSETFROM:-0600
TZOFFSETTO:-0700
TZNAME:MST
DTSTART:20181104T080000
END:STANDARD
BEGIN:DAYLIGHT
TZOFFSETFROM:-0700
TZOFFSETTO:-0600
TZNAME:MDT
DTSTART:20190310T090000
END:DAYLIGHT
BEGIN:STANDARD
TZOFFSETFROM:-0600
TZOFFSETTO:-0700
TZNAME:MST
DTSTART:20191103T080000
END:STANDARD
BEGIN:DAYLIGHT
TZOFFSETFROM:-0700
TZOFFSETTO:-0600
TZNAME:MDT
DTSTART:20200308T090000
END:DAYLIGHT
BEGIN:STANDARD
TZOFFSETFROM:-0600
TZOFFSETTO:-0700
TZNAME:MST
DTSTART:20201101T080000
END:STANDARD
END:VTIMEZONE
BEGIN:VEVENT
DTSTART;TZID=America/Denver:20190206T100000
DTEND;TZID=America/Denver:20190206T140000
DTSTAMP:20260421T165651
CREATED:20190112T154904Z
LAST-MODIFIED:20190112T155023Z
UID:4117-1549447200-1549461600@www.wrfi.net
SUMMARY:University of Montana Involvement Fair
DESCRIPTION:WRFI will be participating in the University of Montana’s Involvement Fair. Students are invited to connect to a variety of experiential learning opportunities\, including field based programs like WRFI\, internships\, volunteer experiences\, research\, study abroad and National Student Exchange. Swing by and learn more about WRFI’s course options\, application process\, scholarships and more!
URL:https://www.wrfi.net/event/university-of-montana-involvement-fair/
LOCATION:University of Montana\, UC Ballroom\, Missoula
CATEGORIES:Outreach Event
ATTACH;FMTTYPE=image/jpeg:https://www.wrfi.net/wp-content/uploads/2018/09/WRFI-tabling-photo.jpg
END:VEVENT
END:VCALENDAR